BEGIN:VCALENDAR
VERSION:2.0
PRODID:-//Grundschule &quot;Anna Sophia&quot; Kranichfeld - ECPv6.15.20//NONSGML v1.0//EN
CALSCALE:GREGORIAN
METHOD:PUBLISH
X-ORIGINAL-URL:https://grundschulekranichfeld.de
X-WR-CALDESC:Veranstaltungen für Grundschule &quot;Anna Sophia&quot; Kranichfeld
REFRESH-INTERVAL;VALUE=DURATION:PT1H
X-Robots-Tag:noindex
X-PUBLISHED-TTL:PT1H
BEGIN:VTIMEZONE
TZID:Europe/Berlin
BEGIN:DAYLIGHT
TZOFFSETFROM:+0100
TZOFFSETTO:+0200
TZNAME:CEST
DTSTART:20250330T010000
END:DAYLIGHT
BEGIN:STANDARD
TZOFFSETFROM:+0200
TZOFFSETTO:+0100
TZNAME:CET
DTSTART:20251026T010000
END:STANDARD
BEGIN:DAYLIGHT
TZOFFSETFROM:+0100
TZOFFSETTO:+0200
TZNAME:CEST
DTSTART:20260329T010000
END:DAYLIGHT
BEGIN:STANDARD
TZOFFSETFROM:+0200
TZOFFSETTO:+0100
TZNAME:CET
DTSTART:20261025T010000
END:STANDARD
BEGIN:DAYLIGHT
TZOFFSETFROM:+0100
TZOFFSETTO:+0200
TZNAME:CEST
DTSTART:20270328T010000
END:DAYLIGHT
BEGIN:STANDARD
TZOFFSETFROM:+0200
TZOFFSETTO:+0100
TZNAME:CET
DTSTART:20271031T010000
END:STANDARD
END:VTIMEZONE
BEGIN:VEVENT
DTSTART;TZID=Europe/Berlin:20260601T170000
DTEND;TZID=Europe/Berlin:20260601T180000
DTSTAMP:20260423T160421
CREATED:20251110T153004Z
LAST-MODIFIED:20251110T153004Z
UID:7097-1780333200-1780336800@grundschulekranichfeld.de
SUMMARY:Elternabend zukünftige Klassen 1
DESCRIPTION:Wir laden alle Eltern der Schulanfänger 26_27 um 17:00Uhr in den Speiseraum der Turnhalle ein.
URL:https://grundschulekranichfeld.de/event/elternabend-zukuenftige-klassen-1/
END:VEVENT
BEGIN:VEVENT
DTSTART;VALUE=DATE:20260620
DTEND;VALUE=DATE:20260621
DTSTAMP:20260423T160421
CREATED:20251110T153124Z
LAST-MODIFIED:20251110T153124Z
UID:7099-1781913600-1781999999@grundschulekranichfeld.de
SUMMARY:Rosenfest
DESCRIPTION:Auch in diesem Jahr nehmen wir wieder am Rosen- und Tanzfest teil. Genaue Informationen folgen.
URL:https://grundschulekranichfeld.de/event/rosenfest/
END:VEVENT
BEGIN:VEVENT
DTSTART;TZID=Europe/Berlin:20260625T080000
DTEND;TZID=Europe/Berlin:20260625T130000
DTSTAMP:20260423T160421
CREATED:20251110T153207Z
LAST-MODIFIED:20251110T153207Z
UID:7101-1782374400-1782392400@grundschulekranichfeld.de
SUMMARY:Wettkampf schwimmen
DESCRIPTION:Sofern Ihr Kind am Wettkampf teilnimmt\, erhalten Sie nähere Informationen vom Sportlehrer.
URL:https://grundschulekranichfeld.de/event/wettkampf-schwimmen/
END:VEVENT
BEGIN:VEVENT
DTSTART;TZID=Europe/Berlin:20260629T080000
DTEND;TZID=Europe/Berlin:20260629T120000
DTSTAMP:20260423T160421
CREATED:20251110T153254Z
LAST-MODIFIED:20251110T153859Z
UID:7104-1782720000-1782734400@grundschulekranichfeld.de
SUMMARY:Wettkampf Fun&Move
DESCRIPTION:Sofern Ihr Kind am Wettkampf teilnimmt\, erhalten Sie nähere Informationen vom Sportlehrer.
URL:https://grundschulekranichfeld.de/event/wettkamopf-funmove/
END:VEVENT
BEGIN:VEVENT
DTSTART;TZID=Europe/Berlin:20260630T073000
DTEND;TZID=Europe/Berlin:20260630T120000
DTSTAMP:20260423T160421
CREATED:20251110T153449Z
LAST-MODIFIED:20251110T153449Z
UID:7108-1782804600-1782820800@grundschulekranichfeld.de
SUMMARY:gemeinsames Sportfest mit der Regelschule
DESCRIPTION:Wir freuen uns auf ein gemeinsames Sportfest mit der Regelschule!
URL:https://grundschulekranichfeld.de/event/gemeinsames-sportfest-mit-der-regelschule/
END:VEVENT
END:VCALENDAR